BEGIN:VCALENDAR
VERSION:2.0
PRODID:-//Colorado Springs Conservatory - ECPv6.15.20//NONSGML v1.0//EN
CALSCALE:GREGORIAN
METHOD:PUBLISH
X-WR-CALNAME:Colorado Springs Conservatory
X-ORIGINAL-URL:https://coloradospringsconservatory.org
X-WR-CALDESC:Events for Colorado Springs Conservatory
REFRESH-INTERVAL;VALUE=DURATION:PT1H
X-Robots-Tag:noindex
X-PUBLISHED-TTL:PT1H
BEGIN:VTIMEZONE
TZID:America/Denver
BEGIN:DAYLIGHT
TZOFFSETFROM:-0700
TZOFFSETTO:-0600
TZNAME:MDT
DTSTART:20250309T090000
END:DAYLIGHT
BEGIN:STANDARD
TZOFFSETFROM:-0600
TZOFFSETTO:-0700
TZNAME:MST
DTSTART:20251102T080000
END:STANDARD
BEGIN:DAYLIGHT
TZOFFSETFROM:-0700
TZOFFSETTO:-0600
TZNAME:MDT
DTSTART:20260308T090000
END:DAYLIGHT
BEGIN:STANDARD
TZOFFSETFROM:-0600
TZOFFSETTO:-0700
TZNAME:MST
DTSTART:20261101T080000
END:STANDARD
BEGIN:DAYLIGHT
TZOFFSETFROM:-0700
TZOFFSETTO:-0600
TZNAME:MDT
DTSTART:20270314T090000
END:DAYLIGHT
BEGIN:STANDARD
TZOFFSETFROM:-0600
TZOFFSETTO:-0700
TZNAME:MST
DTSTART:20271107T080000
END:STANDARD
END:VTIMEZONE
BEGIN:VEVENT
DTSTART;TZID=America/Denver:20260426T140000
DTEND;TZID=America/Denver:20260426T140000
DTSTAMP:20260425T214546
CREATED:20260209T235239Z
LAST-MODIFIED:20260330T142726Z
UID:10000021-1777212000-1777212000@coloradospringsconservatory.org
SUMMARY:Metamorphoses
DESCRIPTION:Metamorphoses is a play based on Ovid’s first-century epic\, a poetic collection of Greek myths. Each of the tales – beautiful\, strange and often cautionary – comes to some form of radical\, bodily transformation. Throughout the centuries\, these stories have been interpreted variously as reflections of psychological or spiritual journeys\, or even as an early form of science – an encyclopedia of how nature got the way it is. They are always reminders that we\, and everything we know\, will change. There is humor in the stories as well as tragedy\, but the ultimate expression of the piece is that of a faith in the ability of great love to cause great change.
URL:https://coloradospringsconservatory.org/event/metamorphoses-4-26/
LOCATION:Colorado Springs Conservatory\, 420 N Nevada Ave\, Colorado Springs\, 80903\, United States
ATTACH;FMTTYPE=image/webp:https://coloradospringsconservatory.org/wp-content/uploads/2026/02/Metamorphoses-Poster.webp
END:VEVENT
BEGIN:VEVENT
DTSTART;TZID=America/Denver:20260501T190000
DTEND;TZID=America/Denver:20260501T190000
DTSTAMP:20260425T214546
CREATED:20260207T174953Z
LAST-MODIFIED:20260209T234532Z
UID:10000017-1777662000-1777662000@coloradospringsconservatory.org
SUMMARY:Spring Features Student Showcase
DESCRIPTION:
URL:https://coloradospringsconservatory.org/event/spring-features-student-showcase/
LOCATION:Colorado Springs Conservatory\, 420 N Nevada Ave\, Colorado Springs\, 80903\, United States
ATTACH;FMTTYPE=image/webp:https://coloradospringsconservatory.org/wp-content/uploads/2026/02/Spring-features.webp
END:VEVENT
BEGIN:VEVENT
DTSTART;TZID=America/Denver:20260502T100000
DTEND;TZID=America/Denver:20260502T210000
DTSTAMP:20260425T214546
CREATED:20260207T175711Z
LAST-MODIFIED:20260330T215405Z
UID:10000018-1777716000-1777755600@coloradospringsconservatory.org
SUMMARY:Colorado Springs Conservatory Festival
DESCRIPTION:Join us for a full day celebrating the incredible work of our students across all ages and disciplines. \nYour ticket gets you access to every showcase happening throughout the day. Come for one\, stay for all! \nFood and concessions will be available on-site\, so make a day of it! \n\n10:00 AM — Early Childhood Showcase | Developmental Lab \n11:30 AM — Foundational Theatre Showcase | FUMC Theatre \n1:00 PM — APN & Exploratory Showcase | FUMC Theatre \n2:30 PM — Piano & Strings Showcase | CSC Recital Hall \n4:00 PM — New Music Lab Deux | FUMC Theatre \n6:00 PM — Vocal & Contemporary Music Showcase | CSC Recital Hall \n8:00 PM — Senior Recitals | FUMC Theatre
URL:https://coloradospringsconservatory.org/event/colorado-springs-conservatory-festival/
LOCATION:Colorado Springs Conservatory\, 420 N Nevada Ave\, Colorado Springs\, 80903\, United States
ATTACH;FMTTYPE=image/webp:https://coloradospringsconservatory.org/wp-content/uploads/2026/02/Festival-Poster.webp
END:VEVENT
END:VCALENDAR